BEGIN:VCALENDAR
VERSION:2.0
PRODID:icalendar-ruby
CALSCALE:GREGORIAN
METHOD:PUBLISH
BEGIN:VEVENT
DTSTAMP:20260422T222320Z
UID:64-563911@hendersonfirst.org
DTSTART:20260913T153000Z
DTEND:20260913T170000Z
CLASS:PUBLIC
CREATED:20260422T162115
DESCRIPTION:We can't wait to worship with you- 10:30 AM! We're coming with 
 expectant hearts\, trusting God for all He has for us! See you there!
LAST-MODIFIED:20260422T162115
LOCATION:
SUMMARY:Sunday Service
URL;VALUE=URI:https://www.hendersonfirst.org/events/sunday-service/2026-09-
 13
ATTACH;FILENAME=2026.02.12.SundayWorshipJPG - Done McAlvain.JPG;FMTTYPE=ima
 ge/jpeg:https://dq5pwpg1q8ru0.cloudfront.net/2026/02/13/17/50/32/56e5d356-
 b330-41fb-85f4-6de8e0231a07/2026.02.12.SundayWorshipJPG%20-%20Done%20McAlv
 ain.JPG
END:VEVENT
END:VCALENDAR
