BEGIN:VCALENDAR
VERSION:2.0
PRODID:icalendar-ruby
CALSCALE:GREGORIAN
METHOD:PUBLISH
BEGIN:VEVENT
DTSTAMP:20260425T144048Z
UID:87-548478@hendersonfirst.org
DTSTART:20260507T163000Z
DTEND:20260507T173000Z
CLASS:PUBLIC
CREATED:20260415T221731
DESCRIPTION:You're invited every first Thursday of the month to have lunch 
 with us at 11:30 AM. Stop by the Welcome Desk to get more details and sign
  up to reserve your lunch.
LAST-MODIFIED:20260415T221731
LOCATION:
SUMMARY:Senior Adult Ministry
URL;VALUE=URI:https://www.hendersonfirst.org/events/senior-adult-ministry--
 87/2026-05-07
ATTACH;FILENAME=2026.04.11SeniorAdultMin - Done McAlvain.jpg;FMTTYPE=image/
 jpeg:https://dq5pwpg1q8ru0.cloudfront.net/2026/04/16/03/17/30/ac75d887-ed4
 1-44a7-bace-0a6a6ad5f66f/2026.04.11SeniorAdultMin%20-%20Done%20McAlvain.jp
 g
END:VEVENT
END:VCALENDAR
