BEGIN:VCALENDAR
VERSION:2.0
PRODID:icalendar-ruby
CALSCALE:GREGORIAN
METHOD:PUBLISH
BEGIN:VEVENT
DTSTAMP:20260421T084535Z
UID:81-545797@hendersonfirst.org
DTSTART:20260503T223000Z
DTEND:20260504T000000Z
CLASS:PUBLIC
CREATED:20260415T002059
DESCRIPTION:Church-wide event! Pinewood Derby is Sunday\, May 3rd at 5:30pm
 ! You can start to buy/pre-order your car for $10 a kit. Derby cars need t
 o be turned in by April 30th. Youth will be selling concessions and procee
 ds will go to STL.
LAST-MODIFIED:20260415T002059
LOCATION:Biram Hall
SUMMARY:Pinewood Derby
URL;VALUE=URI:https://www.hendersonfirst.org/events/pinewood-derby/2026-05-
 03
ATTACH;FILENAME=2026.04.11.Pinewoodderby - Done McAlvain.jpg;FMTTYPE=image/
 jpeg:https://dq5pwpg1q8ru0.cloudfront.net/2026/04/15/05/20/38/828dae2a-3bd
 9-4d37-9f35-1d860e1b39e3/2026.04.11.Pinewoodderby%20-%20Done%20McAlvain.jp
 g
END:VEVENT
END:VCALENDAR
