BEGIN:VCALENDAR
VERSION:2.0
PRODID:icalendar-ruby
CALSCALE:GREGORIAN
METHOD:PUBLISH
BEGIN:VEVENT
DTSTAMP:20260421T083728Z
UID:80-545795@hendersonfirst.org
DTSTART:20260425T000000Z
DTEND:20260425T013000Z
CLASS:PUBLIC
CREATED:20260415T001429
DESCRIPTION:We are excited to host this year's Night for Life on Friday\, A
 pril 24th 7:00 - 8:30 pm\, with guest speaker Rebekah Hagan.\nReserve your
  tickets today!
LAST-MODIFIED:20260415T001429
LOCATION:
SUMMARY:Night for Life
URL;VALUE=URI:https://www.hendersonfirst.org/events/night-for-life/2026-04-
 24
ATTACH;FILENAME=2026.04.11.MarshasplaceNFL - Done McAlvain.jpg;FMTTYPE=imag
 e/jpeg:https://dq5pwpg1q8ru0.cloudfront.net/2026/04/15/05/12/40/3cfeac02-b
 7d3-45e8-a7ac-6903b60a241c/2026.04.11.MarshasplaceNFL%20-%20Done%20McAlvai
 n.jpg
END:VEVENT
END:VCALENDAR
